BEGIN:VCALENDAR
VERSION:2.0
PRODID:-//eventon.com NONSGML v1.0//EN
CALSCALE:GREGORIAN
METHOD:PUBLISH
BEGIN:VEVENT
UID:69e4dda5bd760
DTSTAMP:20260419T155029
DTSTART:20181203T110000Z
DTEND:20181203T120000Z
TZID:UTC
LOCATION:
SUMMARY:KINO MAŁEGO PODRÓŻNIKA – OPOWIEŚĆ WIGILIJNA
DESCRIPTION:Drodzy Mali Podróżnicy przed nami najpiękniejszy zimowy miesiąc – pełen magii\,  świątecznych dekoracji i niespodzianek. To czas przygotowań do zbliżających się wielkimi krokami świąt. W tym tygodniu czeka na Was wiele atrakcji. Tydzień rozpocznie się wizytą w Kinie Małego Podróżnika. Z kubkiem pysznej\,  zimowej herbaty obejrzymy film pt. Wigilijna opowieść.[..]\nhttps://malypodroznik.edu.pl/events/kolo-kulinarne-holenderskie-smaki-wszystkie-grupy-2/
URL:https://malypodroznik.edu.pl/events/kolo-kulinarne-holenderskie-smaki-wszystkie-grupy-2/
END:VEVENT
END:VCALENDAR