BEGIN:VCALENDAR
VERSION:2.0
PRODID:-//eventon.com NONSGML v1.0//EN
CALSCALE:GREGORIAN
METHOD:PUBLISH
BEGIN:VEVENT
UID:69e749564cb7a
DTSTAMP:20260421T115430
DTSTART:20230126T100000Z
DTEND:20230127T170000Z
TZID:UTC
LOCATION:
SUMMARY:KOŁO KULINARNE – EGIPSKIE PRZYSMAKI – WSZYSTKIE GRUPY
DESCRIPTION:Rozmawiając o Egipcie nie sposób nie wspomnieć o najpopularniejszych deserach\,  których pochodzenie sięga epoki faraona. Wiele z nich składa się z mleka\,  orzechów\,  miodu\,  cynamonu\,  wanilii i kardamonu. W ramach koła kulinarnego każda grupa przygotowuje swoją wersję najbardziej znanych przysmaków tj. Oma Ali – narodowego deseru egipskiego\,  Rozbi laben –[..]\nhttps://malypodroznik.edu.pl/events/kolo-kulinarne-egipskie-przysmaki-wszystkie-grupy/
URL:https://malypodroznik.edu.pl/events/kolo-kulinarne-egipskie-przysmaki-wszystkie-grupy/
END:VEVENT
END:VCALENDAR