BEGIN:VCALENDAR
VERSION:2.0
PRODID:-//eventon.com NONSGML v1.0//EN
CALSCALE:GREGORIAN
METHOD:PUBLISH
BEGIN:VEVENT
UID:69e74872d7eb6
DTSTAMP:20260421T115042
DTSTART:20220926T100000Z
DTEND:20221007T100000Z
TZID:UTC
LOCATION:
SUMMARY:” POZNAJEMY EKOSYSTEMY ” – HOME PROJEKT – WSZYSTKIE GRUPY
DESCRIPTION:Dopełnieniem tematu będzie pierwszy w tym roku szkolnym HOME PROJECT. Zadaniem chętnych Małych Podróżników z pomocą Rodziców jest stworzenie 3 kartek do książki kulinarnej pt. Master Chef Małego Podróżnika. Kartki z trzema przepisami przygotować należy w formie plastycznej np. dania z ziemniaka\,  buraka i dyni. Najlepsze i najbardziej zaskakujące przepisy[..]\nhttps://malypodroznik.edu.pl/events/poznajemy-ekosystemy-home-projekt-wszystkie-grupy/
URL:https://malypodroznik.edu.pl/events/poznajemy-ekosystemy-home-projekt-wszystkie-grupy/
END:VEVENT
END:VCALENDAR