BEGIN:VCALENDAR
VERSION:2.0
PRODID:-//eventon.com NONSGML v1.0//EN
CALSCALE:GREGORIAN
METHOD:PUBLISH
BEGIN:VEVENT
UID:69e5facc9efd3
DTSTAMP:20260420T120708
DTSTART:20190510T090000Z
DTEND:20190510T130000Z
TZID:UTC
LOCATION:
SUMMARY:NARODOWY TEATR EDUKACJI – PRZEDSTAWIENIE PSZCZÓŁKA MAJA  – GRUPA PSZCZÓŁEK I ŻABEK
DESCRIPTION:Wychowawcy Pszczółek i Żabek organizują dodatkową wycieczkę do Narodowego Teatru Edukacji na przedstawienie pt. „Pszczółka Maja”. Rezerwacja przypada na 10.05.2019- piątek na godzinę 10.30. O szczegółach poinformują wychowawcy grup.\nhttps://malypodroznik.edu.pl/events/dzien-mamy-i-taty-grupa-biedronki-s/
URL:https://malypodroznik.edu.pl/events/dzien-mamy-i-taty-grupa-biedronki-s/
END:VEVENT
END:VCALENDAR