BEGIN:VCALENDAR
VERSION:2.0
PRODID:-//eventon.com NONSGML v1.0//EN
CALSCALE:GREGORIAN
METHOD:PUBLISH
BEGIN:VEVENT
UID:69e8b0e14ecbf
DTSTAMP:20260422T132833
DTSTART:20190321T100000Z
DTEND:20190321T110000Z
TZID:UTC
LOCATION:
SUMMARY:PIERWSZY DZIEŃ WIOSNY – PRZEDSTAWIENIE NAUCZYCIELI
DESCRIPTION:W czwartek czeka nas nie lada atrakcja. Po raz kolejny nasi wspaniali nauczyciele przygotują przedstawienie dla Małych Podróżników z okazji Pierwszego Dnia Wiosny. Każda grupa stworzy w swojej sali wiosenny kącik przyrodniczy z wysiewaniem kwiatów i sadzeniem cebulek. Tego dnia nie zabraknie także podchodów oraz wiosennego kółka kulinarnego. Prosimy\,  by[..]\nhttps://malypodroznik.edu.pl/events/poznajemy-zawody-wszystkie-grupy/
URL:https://malypodroznik.edu.pl/events/poznajemy-zawody-wszystkie-grupy/
END:VEVENT
END:VCALENDAR