BEGIN:VCALENDAR
VERSION:2.0
PRODID:-//eventon.com NONSGML v1.0//EN
CALSCALE:GREGORIAN
METHOD:PUBLISH
BEGIN:VEVENT
UID:69ed24b88dfc5
DTSTAMP:20260425T223152
DTSTART:20191227T073000Z
DTEND:20191227T180000Z
TZID:UTC
LOCATION:
SUMMARY:DZIEŃ DYREKTORSKI – PRZEDSZKOLE NIECZYNNE
DESCRIPTION:Informujemy\,  że w roku szkolnym 2019/2020 drugim dniem dyrektorskim (dzień\,  w którym przedszkole będzie zamknięte) jest 27.12.19. Do zobaczenia w czwartek 2.01.2020 🙂\nhttps://malypodroznik.edu.pl/events/kiermasz-swiateczny-akcja-harytatywna-fundacja-siepomaga-wszystkie-grupy/
URL:https://malypodroznik.edu.pl/events/kiermasz-swiateczny-akcja-harytatywna-fundacja-siepomaga-wszystkie-grupy/
END:VEVENT
END:VCALENDAR