BEGIN:VCALENDAR
VERSION:2.0
PRODID:-//eventon.com NONSGML v1.0//EN
CALSCALE:GREGORIAN
METHOD:PUBLISH
BEGIN:VEVENT
UID:69ece713be54c
DTSTAMP:20260425T180851
DTSTART:20200908T160000Z
DTEND:20200908T180000Z
TZID:UTC
LOCATION:
SUMMARY:ZEBRANIE POCZĄTKOWO-ROCZNE GRUPA BIEDRONEK
DESCRIPTION:Zapraszamy Rodziców BIEDRONEK na zebranie organizacyjne.\nhttps://malypodroznik.edu.pl/events/zebranie-poczatkowo-roczne-grupa-biedronek/
URL:https://malypodroznik.edu.pl/events/zebranie-poczatkowo-roczne-grupa-biedronek/
END:VEVENT
END:VCALENDAR