BEGIN:VCALENDAR
VERSION:2.0
PRODID:-//eventon.com NONSGML v1.0//EN
CALSCALE:GREGORIAN
METHOD:PUBLISH
BEGIN:VEVENT
UID:69eae622a577a
DTSTAMP:20260424T054018
DTSTART:20200904T163000Z
DTEND:20200904T180000Z
TZID:UTC
LOCATION:
SUMMARY:ZEBRANIE POCZĄTKOWO-ROCZNE GRUPA MOTYLKÓW
DESCRIPTION:Zapraszamy Rodziców MOTYLKÓW na zebranie organizacyjne.\nhttps://malypodroznik.edu.pl/events/zebranie-poczatkowo-roczne-grupa-motylkow/
URL:https://malypodroznik.edu.pl/events/zebranie-poczatkowo-roczne-grupa-motylkow/
END:VEVENT
END:VCALENDAR