BEGIN:VCALENDAR
VERSION:2.0
PRODID:-//eventon.com NONSGML v1.0//EN
CALSCALE:GREGORIAN
METHOD:PUBLISH
BEGIN:VEVENT
UID:69e6630659258
DTSTAMP:20260420T193150
DTSTART:20240207T140000Z
DTEND:20240207T180000Z
TZID:UTC
LOCATION:
SUMMARY:PODSUMOWANIE DIAGNOZY GOTOWOŚCI SZKOLNEJ – DZIEŃ OTWARTY – GRUPA SÓWEK
DESCRIPTION:Zapraszamy Rodziców Sówek na Dzień Otwarty z Wychowawcami grupy p. Katarzyną Maciejewską i p. Katarzyna Pyrą. Podczas indywidualnej rozmowy dowiedzą się Państwo o wynikach diagnozy gotowości szkolnej. Dzień Otwarty Grupa Sówek &#8211; 7.02 środa od godziny 14.00 Informujemy\,  że w szatni zostaną wywieszone na tablicach grupowych tabelki spotkań. Prosimy o[..]\nhttps://malypodroznik.edu.pl/events/podsumowanie-diagnozy-gotowosci-szkolnej-dzien-otwarty-grupa-sowek-3/
URL:https://malypodroznik.edu.pl/events/podsumowanie-diagnozy-gotowosci-szkolnej-dzien-otwarty-grupa-sowek-3/
END:VEVENT
END:VCALENDAR