BEGIN:VCALENDAR
VERSION:2.0
PRODID:-//eventon.com NONSGML v1.0//EN
CALSCALE:GREGORIAN
METHOD:PUBLISH
BEGIN:VEVENT
UID:69e5fa63e3e1b
DTSTAMP:20260420T120523
DTSTART:20240313T083000Z
DTEND:20240315T174500Z
TZID:UTC
LOCATION:
SUMMARY:WIOSENNE KOŁO KULINARNE – CHĘTNE GRUPY
DESCRIPTION:Drodzy Mali Podróżnicy\,  chcemy Wam zaproponować wiosenne koło kulinarne. Zadaniem Waszym będzie przygotowanie zielonych\,  wiosennych przysmaków &#8211; wśród nich mogą się znaleźć: smoothie warzywno &#8211; owocowe\,  leśne ciasto &#8221; Zielony mech &#8222;\,  smaczne maślane ciasteczka w kształcie wiosennych kwiatów. Wiemy\,  jak bardzo lubicie kulinarne wyzwania i jesteśmy przekonani\,  że będzie[..]\nhttps://malypodroznik.edu.pl/events/wiosenne-kolo-kulinarne-chetne-grupy/
URL:https://malypodroznik.edu.pl/events/wiosenne-kolo-kulinarne-chetne-grupy/
END:VEVENT
END:VCALENDAR