BEGIN:VCALENDAR
VERSION:2.0
PRODID:-//eventon.com NONSGML v1.0//EN
CALSCALE:GREGORIAN
METHOD:PUBLISH
BEGIN:VEVENT
UID:69e89ea0ac9bb
DTSTAMP:20260422T121040
DTSTART:20241001T100000Z
DTEND:20241001T160000Z
TZID:UTC
LOCATION:
SUMMARY:JESIENNE KOŁO KULINARNE
DESCRIPTION:Jesienne potrawy możemy podzielić na dwie grupy. Pierwsza grupa podawana jest na ciepło i jej zadaniem jest rozgrzać smakoszy\,  druga to dania serwowane na zimno. Przy okazji realizacji tematu „ Jesień w sadzie i ogrodzie ” nie może zabraknąć rozmów o zbilansowanym żywieniu i jesiennego\,  zdrowego kółka kulinarnego. Chętne grupy[..]\nhttps://malypodroznik.edu.pl/events/jesienne-kolo-kulinarne/
URL:https://malypodroznik.edu.pl/events/jesienne-kolo-kulinarne/
END:VEVENT
END:VCALENDAR