BEGIN:VCALENDAR
VERSION:2.0
PRODID:-//eventon.com NONSGML v1.0//EN
CALSCALE:GREGORIAN
METHOD:PUBLISH
BEGIN:VEVENT
UID:69e4de38bc8d4
DTSTAMP:20260419T155256
DTSTART:20241007T083000Z
DTEND:20241011T173000Z
TZID:UTC
LOCATION:
SUMMARY:TYDZIEŃ DIAGNOSTYCZNY – GRUPA PAPUŻEK 
DESCRIPTION:W związku z przygotowaniem WSTĘPNEJ DIAGNOZY GOTOWOŚCI EDUKACYJNEJ&nbsp; – Wychowawca grupy Papużek – Pani Sylwia\,  w kolejnym tygodniu tj. 7.10 – 11.10 będzie opracowywać Arkusze Obserwacji Pedagogicznej Dzieci. W tym tygodniu temat dydaktyczny realizowany będzie w formie materiału diagnostycznego z zakresu edukacji językowej (w tym glottodydaktyki)\,  matematycznej\,  przyrodniczej. Badane będą[..]\nhttps://malypodroznik.edu.pl/events/tydzien-diagnostyczny-grupa-papuzek-3/
URL:https://malypodroznik.edu.pl/events/tydzien-diagnostyczny-grupa-papuzek-3/
END:VEVENT
END:VCALENDAR