BEGIN:VCALENDAR
VERSION:2.0
PRODID:-//eventon.com NONSGML v1.0//EN
CALSCALE:GREGORIAN
METHOD:PUBLISH
BEGIN:VEVENT
UID:69e749164bf6b
DTSTAMP:20260421T115326
DTSTART:20250103T073000Z
DTEND:20250114T180000Z
TZID:UTC
LOCATION:
SUMMARY:TYDZIEŃ DIAGNOSTYSZNY I PRZYGOTOWANIA DO EGZAMINÓW - GRUPA DELFINKÓW
DESCRIPTION:Drodzy Rodzice Delfinków z uwagi na zbliżające się spotkania rekrutacyjne w niepublicznych  i społecznych szkołach podstawowych przez najbliższe dwa tygodnie wszystkie działania grupy Delfinków ukierunkowane będą na utrwalenie materiału i przygotowanie Końcowych Diagnoz Gotowości Szkolnej. \nhttps://malypodroznik.edu.pl/events/tydzien-diagnostyszny-i-przygotowania-do-egzaminow-grupa-delfinkow-3/
URL:https://malypodroznik.edu.pl/events/tydzien-diagnostyszny-i-przygotowania-do-egzaminow-grupa-delfinkow-3/
END:VEVENT
END:VCALENDAR