BEGIN:VCALENDAR
VERSION:2.0
PRODID:-//eventon.com NONSGML v1.0//EN
CALSCALE:GREGORIAN
METHOD:PUBLISH
BEGIN:VEVENT
UID:69e740b1d04b4
DTSTAMP:20260421T111737
DTSTART:20250127T073000Z
DTEND:20250130T180000Z
TZID:UTC
LOCATION:
SUMMARY:BEZPIECZEŃSTWO W CZASIE ZABAW  ZIMOWYCH - GRUPA TYGRYSÓW\,  DELFINÓW\,  PAPUŻEK
DESCRIPTION:Drodzy Rodzice\,  małymi krokami zbliżają się ferie zimowe … To doskonały czas na wspólną zimową zabawę i rozmowę na temat bezpiecznego sposobu spędzania czasu.&nbsp;&nbsp;&nbsp;&nbsp;&nbsp;&nbsp; Mali Podróżnicy doskonale wiedzą\,  jak ważne jest przebywanie na świeżym powietrzu                         i dbanie o aktywność fizyczną. W ostatnim tygodniu stycznia przypomnimy Dzieciom podstawowe zasady bezpieczeństwa: jak[..]\nhttps://malypodroznik.edu.pl/events/bezpieczenstwo-w-czasie-zabaw-zimowych-grupa-tygrysow-delfinow-papuzek/
URL:https://malypodroznik.edu.pl/events/bezpieczenstwo-w-czasie-zabaw-zimowych-grupa-tygrysow-delfinow-papuzek/
END:VEVENT
END:VCALENDAR