BEGIN:VCALENDAR
VERSION:2.0
PRODID:-//eventon.com NONSGML v1.0//EN
CALSCALE:GREGORIAN
METHOD:PUBLISH
BEGIN:VEVENT
UID:69e5fa55db2a9
DTSTAMP:20260420T120509
DTSTART:20250131T093000Z
DTEND:20250131T120000Z
TZID:Africa/Abidjan
LOCATION:
SUMMARY:SPOTKANIE Z OKAZJI DNIA BABCI I DZIADKA – GRUPA PAPUŻEK
DESCRIPTION:Drogie Babcie i Drodzy Dziadkowie z okazji Waszego święta zapraszamy na uroczyste spotkanie.\nhttps://malypodroznik.edu.pl/events/spotkania-z-okazji-dnia-babci-i-dziadka-grupa-papuzek/
URL:https://malypodroznik.edu.pl/events/spotkania-z-okazji-dnia-babci-i-dziadka-grupa-papuzek/
END:VEVENT
END:VCALENDAR