BEGIN:VCALENDAR
VERSION:2.0
PRODID:-//eventon.com NONSGML v1.0//EN
CALSCALE:GREGORIAN
METHOD:PUBLISH
BEGIN:VEVENT
UID:69e5fdf3d533e
DTSTAMP:20260420T122035
DTSTART:20250903T170000Z
DTEND:20250903T180000Z
TZID:UTC
LOCATION:
SUMMARY:ZEBRANIA Z RODZICAMI - GRUPA TYGRYSKÓW A
DESCRIPTION:Zapraszamy wszystkich Rodziców Małych Podróżnik z grupy Tygrysków A na zebrania organizacyjne\,  początkoworoczne  z Dyrekcją i Wychowawcą grupy p. Anetą .\nhttps://malypodroznik.edu.pl/events/zebrania-z-rodzicami-grupa-tygryskow-a/
URL:https://malypodroznik.edu.pl/events/zebrania-z-rodzicami-grupa-tygryskow-a/
END:VEVENT
END:VCALENDAR