BEGIN:VCALENDAR
VERSION:2.0
PRODID:-//eventon.com NONSGML v1.0//EN
CALSCALE:GREGORIAN
METHOD:PUBLISH
BEGIN:VEVENT
UID:69e74a7075e69
DTSTAMP:20260421T115912
DTSTART:20250930T083000Z
DTEND:20250930T133000Z
TZID:UTC
LOCATION:
SUMMARY:WYCIECZKA AUTOKAROWA DO SADU - GRUPA TYGRYSKÓW\,  PAPUŻEK\,  PINGWINKÓW
DESCRIPTION:Drodzy Rodzice\,  już we wtorek ( o ile będą sprzyjające warunki pogodowe ) o godzinie 8.45 wyruszamy na wycieczkę do podwarszawskiego sadu. Wycieczka Małych Podróżników do sadu to pomysł na edukacyjną przygodę dla Dzieci\,  która ma na celu poznanie środowiska sadu\,  obserwację pracy sadownika oraz naukę o drzewach owocowych. Dzieci[..]\nhttps://malypodroznik.edu.pl/events/wycieczka-autokarowa-do-sadu-grupa-tygryskow-papuzek-pingwinkow/
URL:https://malypodroznik.edu.pl/events/wycieczka-autokarowa-do-sadu-grupa-tygryskow-papuzek-pingwinkow/
END:VEVENT
END:VCALENDAR