BEGIN:VCALENDAR
VERSION:2.0
PRODID:-//eventon.com NONSGML v1.0//EN
CALSCALE:GREGORIAN
METHOD:PUBLISH
BEGIN:VEVENT
UID:69e5fc4852b4c
DTSTAMP:20260420T121328
DTSTART:20251014T100000Z
DTEND:20251014T120000Z
TZID:UTC
LOCATION:
SUMMARY:PASOWANIE NA PRZEDSZKOLAKA - GRUPA KOTKÓW  
DESCRIPTION:Drodzy Rodzice Kotków z radością informujemy\,  że we wtorek 14.10 w grupie Kotków odbędzie się uroczyste Pasowanie na Przedszkolaka Małego Podróżnika. W dniu pasowania czeka na Maluszki wiele ciekawych wyzwań: pokonanie toru przeszkód\,  zabawy z balonami\,  smakowe niespodzianki. W nagrodę za wykonanie zadań czeka na każdego pasowanego Przedszkolaka mini poczęstunek[..]\nhttps://malypodroznik.edu.pl/events/pasowanie-na-przedszkolaka-grupa-kotkow/
URL:https://malypodroznik.edu.pl/events/pasowanie-na-przedszkolaka-grupa-kotkow/
END:VEVENT
END:VCALENDAR